BEGIN:VCALENDAR
VERSION:2.0
PRODID:-//NALT - ECPv6.15.20//NONSGML v1.0//EN
CALSCALE:GREGORIAN
METHOD:PUBLISH
X-WR-CALNAME:NALT
X-ORIGINAL-URL:https://nalt.bc.ca
X-WR-CALDESC:Events for NALT
REFRESH-INTERVAL;VALUE=DURATION:PT1H
X-Robots-Tag:noindex
X-PUBLISHED-TTL:PT1H
BEGIN:VTIMEZONE
TZID:America/Vancouver
BEGIN:DAYLIGHT
TZOFFSETFROM:-0800
TZOFFSETTO:-0700
TZNAME:PDT
DTSTART:20240310T100000
END:DAYLIGHT
BEGIN:STANDARD
TZOFFSETFROM:-0700
TZOFFSETTO:-0800
TZNAME:PST
DTSTART:20241103T090000
END:STANDARD
BEGIN:DAYLIGHT
TZOFFSETFROM:-0800
TZOFFSETTO:-0700
TZNAME:PDT
DTSTART:20250309T100000
END:DAYLIGHT
BEGIN:STANDARD
TZOFFSETFROM:-0700
TZOFFSETTO:-0800
TZNAME:PST
DTSTART:20251102T090000
END:STANDARD
BEGIN:DAYLIGHT
TZOFFSETFROM:-0800
TZOFFSETTO:-0700
TZNAME:PDT
DTSTART:20260308T100000
END:DAYLIGHT
BEGIN:STANDARD
TZOFFSETFROM:-0700
TZOFFSETTO:-0800
TZNAME:PST
DTSTART:20261101T090000
END:STANDARD
END:VTIMEZONE
BEGIN:VEVENT
DTSTART;TZID=America/Vancouver:20250116T190000
DTEND;TZID=America/Vancouver:20250116T190000
DTSTAMP:20260421T192539
CREATED:20241212T234344Z
LAST-MODIFIED:20241212T234641Z
UID:3405-1737054000-1737054000@nalt.bc.ca
SUMMARY:Planning for Climate Change Resiliency
DESCRIPTION:
URL:https://nalt.bc.ca/events-calendar/planning-for-climate-change-resiliency/
LOCATION:Bowen Park\, Room #1\, 500 Bowen Rd\, Nanaimo\, British Columbia\, V9R 1Z7
CATEGORIES:Speaker Series
ATTACH;FMTTYPE=image/jpeg:https://nalt.bc.ca/wp-content/uploads/2024/12/Jan-16-Presentation-Poster.jpg
ORGANIZER;CN="NALT Stewardship Centre":MAILTO:admin@nalt.bc.ca
END:VEVENT
END:VCALENDAR