BEGIN:VCALENDAR
VERSION:2.0
PRODID:-//NALT - ECPv6.15.20//NONSGML v1.0//EN
CALSCALE:GREGORIAN
METHOD:PUBLISH
X-WR-CALNAME:NALT
X-ORIGINAL-URL:https://nalt.bc.ca
X-WR-CALDESC:Events for NALT
REFRESH-INTERVAL;VALUE=DURATION:PT1H
X-Robots-Tag:noindex
X-PUBLISHED-TTL:PT1H
BEGIN:VTIMEZONE
TZID:America/Vancouver
BEGIN:DAYLIGHT
TZOFFSETFROM:-0800
TZOFFSETTO:-0700
TZNAME:PDT
DTSTART:20230312T100000
END:DAYLIGHT
BEGIN:STANDARD
TZOFFSETFROM:-0700
TZOFFSETTO:-0800
TZNAME:PST
DTSTART:20231105T090000
END:STANDARD
BEGIN:DAYLIGHT
TZOFFSETFROM:-0800
TZOFFSETTO:-0700
TZNAME:PDT
DTSTART:20240310T100000
END:DAYLIGHT
BEGIN:STANDARD
TZOFFSETFROM:-0700
TZOFFSETTO:-0800
TZNAME:PST
DTSTART:20241103T090000
END:STANDARD
BEGIN:DAYLIGHT
TZOFFSETFROM:-0800
TZOFFSETTO:-0700
TZNAME:PDT
DTSTART:20250309T100000
END:DAYLIGHT
BEGIN:STANDARD
TZOFFSETFROM:-0700
TZOFFSETTO:-0800
TZNAME:PST
DTSTART:20251102T090000
END:STANDARD
END:VTIMEZONE
BEGIN:VEVENT
DTSTART;TZID=America/Vancouver:20241203T190000
DTEND;TZID=America/Vancouver:20241203T190000
DTSTAMP:20260421T132457
CREATED:20241119T180136Z
LAST-MODIFIED:20241119T181147Z
UID:3377-1733252400-1733252400@nalt.bc.ca
SUMMARY:The Importance of Wildlife Trees for Bats
DESCRIPTION:Did you know that individual dead and dying trees support greater biodiversity in our forest ecosystems than living trees? Join us for a fascinating talk on Wildlife Trees\, with a special focus on their importance for our local bat species\, with wildlife biologist Chris Steeger.
URL:https://nalt.bc.ca/events-calendar/the-importance-of-wildlife-trees-for-bats/
LOCATION:Beban Park Social Centre\, Room 2\, 2300 Bowen Rd\, Nanaimo\, British Columbia\, V9T 3K7\, Canada
CATEGORIES:Speaker Series
ATTACH;FMTTYPE=image/jpeg:https://nalt.bc.ca/wp-content/uploads/2024/11/Chris-Steeger-Presentation-December-03-.jpg
ORGANIZER;CN="Linda Brooymans%2C Stewardship Manager":MAILTO:stewardship@nalt.bc.ca
END:VEVENT
END:VCALENDAR